BEGIN:VCALENDAR
VERSION:2.0
PRODID:-//ChamberMaster//Event Calendar 2.0//EN
METHOD:PUBLISH
X-PUBLISHED-TTL:P3D
REFRESH-INTERVAL:P3D
CALSCALE:GREGORIAN
BEGIN:VEVENT
DTSTART:20241102T140000Z
DTEND:20241103T220000Z
X-MICROSOFT-CDO-ALLDAYEVENT:FALSE
SUMMARY:GFWC-Dickson County Woman's Club "Christmas in the Country"
DESCRIPTION:GFWC-Dickson County Woman's Club\n\n49th Annual "CHRISTMAS IN THE COUNTRY" Craft Show\n\nWhen:  Saturday\, November 2nd from 9:00-4:00 and Sunday\, November 3rd from 11:00-4:00\n\nLocation:  Dickson County High School\n\n$2.00 Admission Fee
X-ALT-DESC;FMTTYPE=text/html:<p style="text-align: center\;"><span style="font-size:14px"><strong>GFWC-Dickson County Woman&#39\;s Club</strong></span></p>\n\n<p style="text-align: center\;"><span style="color:#FF0000"><span style="font-size:18px"><strong><span style="background-color:#FFFFFF">49th Annual </span><u><span style="background-color:#FFFFFF">&quot\;CHRISTMAS IN THE COUNTRY&quot\;</span></u><span style="background-color:#FFFFFF"> Craft Show</span></strong></span></span></p>\n\n<p style="text-align: center\;"><strong>When:&nbsp\; Saturday\, November 2nd from 9:00-4:00 and Sunday\, November 3rd from 11:00-4:00</strong></p>\n\n<p style="text-align: center\;"><strong>Location:&nbsp\; Dickson County High School</strong></p>\n\n<p style="text-align: center\;"><strong>$2.00 Admission Fee</strong></p>\n\n<p>&nbsp\;</p>\n\n<p>&nbsp\;</p>\n
LOCATION:
UID:e.2392.2817
SEQUENCE:3
DTSTAMP:20260422T021659Z
URL:http://dicksoncountychamber.chambermaster.com/events/details/gfwc-2817
END:VEVENT

END:VCALENDAR
